BEGIN:VCALENDAR
PRODID:-//AT Content Types//AT Event//EN
VERSION:1.0
BEGIN:VEVENT
DTSTART:20260420T121500Z
DTEND:20260420T134500Z
DCREATED:20251115T082905Z
UID:ATEvent-debd351aad014e1c9cf5e525adb9e7ac
SEQUENCE:0
LAST-MODIFIED:20260412T083853Z
SUMMARY:Petite fraternité missionnaire
DESCRIPTION:La prochaine rencontre aura lieu :
LOCATION:Salle paroissiale de Balmont
PRIORITY:3
TRANSP:0
END:VEVENT
END:VCALENDAR
