BEGIN:VCALENDAR
PRODID:-//AT Content Types//AT Event//EN
VERSION:1.0
BEGIN:VEVENT
DTSTART:20260528T220000Z
DTEND:20260530T220000Z
DCREATED:20260424T132752Z
UID:ATEvent-04887c7afb524cc4a66f51dbf06481a4
SEQUENCE:0
LAST-MODIFIED:20260424T132822Z
SUMMARY:Triduum de la Visitation
DESCRIPTION:Un temps fort pour entrer dans l'héritage de Saint Franç
 ois de Sales.
LOCATION:Basilique et monastère de la Visitation
PRIORITY:3
TRANSP:0
END:VEVENT
END:VCALENDAR
