BEGIN:VCALENDAR
PRODID:-//AT Content Types//AT Event//EN
VERSION:2.0
METHOD:PUBLISH
BEGIN:VEVENT
DTSTAMP:20260424T195512Z
CREATED:20240927T135355Z
UID:ATEvent-d688d746fcaf4f3e8c6250b275ffa74f
LAST-MODIFIED:20260424T133813Z
SUMMARY:Pause maman
DTSTART:20260530T080000Z
DTEND:20260530T143000Z
LOCATION:Monastère de la Visitation - Annecy
CLASS:PUBLIC
END:VEVENT
END:VCALENDAR
