BEGIN:VCALENDAR
PRODID:-//AT Content Types//AT Event//EN
VERSION:1.0
BEGIN:VEVENT
DTSTART:20250311T180000Z
DTEND:20250311T203000Z
DCREATED:20250302T103143Z
UID:ATEvent-b8729ae853c14034914faa3eba5ab9c1
SEQUENCE:0
LAST-MODIFIED:20250302T103251Z
SUMMARY:Ciné-débat : "Le club des miracles"
DESCRIPTION:Soirée ciné-débat autour du film "Le club des miracles"
  le 11 mars à Annecy.\nUn film plein d'humour "so britich"
LOCATION:cinema Le Nemour
PRIORITY:3
TRANSP:0
END:VEVENT
END:VCALENDAR
