BEGIN:VCALENDAR
PRODID:-//AT Content Types//AT Event//EN
VERSION:2.0
METHOD:PUBLISH
BEGIN:VEVENT
DTSTAMP:20260425T035633Z
CREATED:20260310T092542Z
UID:ATEvent-27650ecb35a340f3a312d06e6bdd4d00
LAST-MODIFIED:20260310T092624Z
SUMMARY:SEMAINE SAINTE
DTSTART:20260310T085500Z
DTEND:20260410T075500Z
DESCRIPTION:horaires et lieux des célébrations de la Semaine Sainte
LOCATION:paroisse st Matthieu en Genevois
CLASS:PUBLIC
END:VEVENT
END:VCALENDAR
