BEGIN:VCALENDAR
PRODID:-//AT Content Types//AT Event//EN
VERSION:2.0
METHOD:PUBLISH
BEGIN:VEVENT
DTSTAMP:20260423T162812Z
CREATED:20260423T130048Z
UID:ATEvent-3772dd42cf874c2c96f31eb409710455
LAST-MODIFIED:20260423T130056Z
SUMMARY:Veillée de prière à l'Esprit Saint
DTSTART:20260523T175500Z
DTEND:20260523T200000Z
DESCRIPTION:Une soirée pour prier et veiller autour des confirmands a
 dultes de notre diocèse. Tout le monde est invité particulièrement 
 les confirmands\, leurs accompagnants et leurs proches.
LOCATION:Epagny
CLASS:PUBLIC
END:VEVENT
END:VCALENDAR
