BEGIN:VCALENDAR
PRODID:-//AT Content Types//AT Event//EN
VERSION:2.0
METHOD:PUBLISH
BEGIN:VEVENT
DTSTAMP:20260425T102333Z
CREATED:20260310T081029Z
UID:ATEvent-0b6f7ec234094352b0d6335f3509cda0
LAST-MODIFIED:20260310T081039Z
SUMMARY:Fête de la foi
DTSTART:20260530T163000Z
DTEND:20260530T163000Z
DESCRIPTION:Fête de la Foi des jeunes du collège La Salle Pringy : s
 amedi 30 mai à 18h30 à Villaz.
LOCATION:église de Villaz
CLASS:PUBLIC
END:VEVENT
END:VCALENDAR
