BEGIN:VCALENDAR
PRODID:-//AT Content Types//AT Event//EN
VERSION:2.0
METHOD:PUBLISH
BEGIN:VEVENT
DTSTAMP:20260423T180848Z
CREATED:20260423T132446Z
UID:ATEvent-644258b8d4fd46ce8003f733ed60ad21
LAST-MODIFIED:20260423T132455Z
SUMMARY:Conseil  pastoral de paroisse (CPP)
DTSTART:20260603T180000Z
DTEND:20260603T200000Z
DESCRIPTION:Des membres représentants de chaque communauté constitut
 ive de la paroisse se retrouvent 2 à 3 fois par an pour échanger ave
 c l'équipe d'animation pastorale et le curé et prendre des décision
 s concernant la bonne gestion de la paroisse.
LOCATION:Maison paroissiale de Pringy 46 rue de Champ Garguan
CLASS:PUBLIC
END:VEVENT
END:VCALENDAR
