BEGIN:VCALENDAR
PRODID:-//AT Content Types//AT Event//EN
VERSION:1.0
BEGIN:VEVENT
DTSTART:20260524T140000Z
DTEND:20260524T160000Z
DCREATED:20260423T130235Z
UID:ATEvent-0b7c59fb5cdb4210b14bc881edb68552
SEQUENCE:0
LAST-MODIFIED:20260423T132206Z
SUMMARY:Pentecôte : confirmations
DESCRIPTION:9 adultes de notre paroisse seront confirmés ce dimanche 
 à l'église de Rumilly !
LOCATION:Rumilly
PRIORITY:3
TRANSP:0
END:VEVENT
END:VCALENDAR
