BEGIN:VCALENDAR
PRODID:-//AT Content Types//AT Event//EN
VERSION:2.0
METHOD:PUBLISH
BEGIN:VEVENT
DTSTAMP:20260423T175851Z
CREATED:20260423T123028Z
UID:ATEvent-f18fd791ecc1431a897ef00b1a717890
LAST-MODIFIED:20260423T123039Z
SUMMARY:Concert
DTSTART:20260430T180000Z
DTEND:20260430T203000Z
DESCRIPTION:Le Concert Pop-Rock Louange est ouvert à toutes et tous. 
 Grâce au rythme même du concert\, il permet à tous d’entrer libre
 ment et progressivement dans la louange. C’est un outil pastoral con
 cret pour une paroisse : inviter à un concert est souvent plus simple
  qu’inviter à l’église. La proposition missionnaire est simple :
  proposer aux paroissiens\, aux groupes de prière et aux catéchumèn
 es d’oser inviter au concert une personne de leur entourage\, éloig
 née de l’Église ou en questionnement de foi. Pour soutenir cette d
 émarche missionnaire\, une entrée Duo est proposée : 15 € pour de
 ux personnes\, au lieu de 10 € par personne.\n« Je préfère une É
 glise accidentée\, blessée et sale pour être sortie\ndans les rues\
 , plutôt qu’une Église malade de la fermeture
LOCATION:Chambéry\, Fondation du bocage 339 Rue Costa de Beauregard 73000
CLASS:PUBLIC
END:VEVENT
END:VCALENDAR
