BEGIN:VCALENDAR
PRODID:-//AT Content Types//AT Event//EN
VERSION:1.0
BEGIN:VEVENT
DTSTART:20260425T180000Z
DTEND:20260425T200000Z
DCREATED:20260423T133626Z
UID:ATEvent-a4b84082781a47a49915cb19f98c7a1f
SEQUENCE:0
LAST-MODIFIED:20260423T133635Z
SUMMARY:Concert caritatif du groupe vocal Som’Hom
DESCRIPTION:Entrée libre\, sortie généreuse ! Merci\, nous comptons
  sur vous !
LOCATION:église de Pringy
PRIORITY:3
TRANSP:0
END:VEVENT
END:VCALENDAR
