BEGIN:VCALENDAR
PRODID:-//AT Content Types//AT Event//EN
VERSION:1.0
BEGIN:VEVENT
DTSTART:20260424T180000Z
DTEND:20260424T203000Z
DCREATED:20260423T125000Z
UID:ATEvent-a62d509dbd4e47d19fff334033b27f5e
SEQUENCE:0
LAST-MODIFIED:20260423T125007Z
SUMMARY:Concert
DESCRIPTION:Concert  par l’école de Musique de Nâves.
LOCATION:Nâves\, église
PRIORITY:3
TRANSP:0
END:VEVENT
END:VCALENDAR
