BEGIN:VCALENDAR
PRODID:-//AT Content Types//AT Event//EN
VERSION:2.0
METHOD:PUBLISH
BEGIN:VEVENT
DTSTAMP:20260423T162422Z
CREATED:20260423T124818Z
UID:ATEvent-75862321504948388406ab0d00ac27e4
LAST-MODIFIED:20260423T124825Z
SUMMARY:Aumônerie des collégiens
DTSTART:20260425T125000Z
DTEND:20260426T150000Z
DESCRIPTION:Week-end de retraite  des collégiens de l’aumônerie et
  du collège La Salle au Centre La Ruche à Manigod en préparation de
  la fête de la Foi du 30 mai.
LOCATION:Manigod
CLASS:PUBLIC
END:VEVENT
END:VCALENDAR
