BEGIN:VCALENDAR
PRODID:-//AT Content Types//AT Event//EN
VERSION:2.0
METHOD:PUBLISH
BEGIN:VEVENT
DTSTAMP:20260423T163433Z
CREATED:20260423T125738Z
UID:ATEvent-84da195690fe49e1993adb9fb588c849
LAST-MODIFIED:20260423T125838Z
SUMMARY:"31 autrement"
DTSTART:20260606T170000Z
DTEND:20260606T210000Z
DESCRIPTION:Un "31 autrement" reporté au samedi suivant en raison de 
 la fête des mères ! Notez la date et le principe : un repas partagé
  où chacun apporte un plat salé ou sucré à partager ! Programme et
  thème  à venir !
LOCATION:Pringy\, jardin du presbytère et maison paroissiale
CLASS:PUBLIC
END:VEVENT
END:VCALENDAR
