BEGIN:VCALENDAR
PRODID:-//AT Content Types//AT Event//EN
VERSION:1.0
BEGIN:VEVENT
DTSTART:20260313T111500Z
DTEND:20260314T111500Z
DCREATED:20260306T090801Z
UID:ATEvent-74792c039f6e4610a830179032c19920
SEQUENCE:0
LAST-MODIFIED:20260410T074351Z
SUMMARY:24h pour le Seigneur
DESCRIPTION:Les 13 et 14 mars auprès des reliques du Saint Padre Pio
LOCATION:Eglise de Morzine
PRIORITY:3
TRANSP:0
END:VEVENT
END:VCALENDAR
