BEGIN:VCALENDAR
PRODID:-//AT Content Types//AT Event//EN
VERSION:1.0
BEGIN:VEVENT
DTSTART:20260425T115000Z
DTEND:20260426T115000Z
DCREATED:20260420T115041Z
UID:ATEvent-aabfad04641e40d5848ce2e3c57e4310
SEQUENCE:0
LAST-MODIFIED:20260420T121338Z
SUMMARY:WEK-END RENOUVEAU CHARISMATIQUE
LOCATION:La Roche-sur-Foron
PRIORITY:3
TRANSP:0
END:VEVENT
END:VCALENDAR
