BEGIN:VCALENDAR
PRODID:-//AT Content Types//AT Event//EN
VERSION:2.0
METHOD:PUBLISH
BEGIN:VEVENT
DTSTAMP:20260421T100001Z
CREATED:20260420T115418Z
UID:ATEvent-602d2cc6a87d46adbe5d190e8fae7106
LAST-MODIFIED:20260420T121306Z
SUMMARY:JOURNEE MONDIALE DE PRIERE POUR LES VOCATIONS
DTSTART:20260425T220000Z
DTEND:20260425T220000Z
DESCRIPTION:Le 4ème dimanche de Pâques rappelle l’importance de pr
 ier pour les vocations. C’est une journée d’invitation à la réf
 lexion : quand on parle de vocation\, on parle de ce qui touche l’ê
 tre humain au plus intime de sa liberté. C’est aussi une journée d
 ’invitation à la prière : pour qu’une liberté humaine découvre
  son chemin\, elle a besoin d’être éclairée et stimulée. C’est
  le rôle du Saint Esprit.
LOCATION:Eglise universelle
URL:https://www.diocese-annecy.fr/le-diocese/les-paroisses/paroisse-saint-germain-du-lac/agenda/journee-mondiale-de-priere-pour-les-vocations/edit
CLASS:PUBLIC
END:VEVENT
END:VCALENDAR
