BEGIN:VCALENDAR
PRODID:-//AT Content Types//AT Event//EN
VERSION:2.0
METHOD:PUBLISH
BEGIN:VEVENT
DTSTAMP:20260421T095255Z
CREATED:20260420T121750Z
UID:ATEvent-7cd0551d36544be2a76bf8174717830d
LAST-MODIFIED:20260420T122337Z
SUMMARY:Ascension du Seigneur
DTSTART:20260513T220000Z
DTEND:20260513T220000Z
DESCRIPTION:La fête de l’Ascension célèbre la montée de Jésus v
 ers Dieu son Père. Elle est fêtée le jeudi de l’Ascension\, quara
 nte jours après Pâques. Mort et ressuscité\, Jésus quitte ses disc
 iples tout en continuant d’être présent auprès d’eux\, mais dif
 féremment. Il promet de leur envoyer une force\, celle de l’Esprit-
 Saint.
LOCATION:Eglise universelle
URL:https://www.diocese-annecy.fr/agenda/fetes-liturgiques/ascension-du-seigneur
CLASS:PUBLIC
END:VEVENT
END:VCALENDAR
