BEGIN:VCALENDAR
PRODID:-//AT Content Types//AT Event//EN
VERSION:2.0
METHOD:PUBLISH
BEGIN:VEVENT
DTSTAMP:20260422T060130Z
CREATED:20251015T102011Z
UID:ATEvent-f4c2bbdb89464b3998f2cae5239d3487
LAST-MODIFIED:20251203T151216Z
SUMMARY:Pèlerinage paroissial : un temps fort et joyeux
DTSTART:20251015T101500Z
DTEND:20251015T101500Z
DESCRIPTION:Pèlerinage de la paroisse: un temps fort et joyeux\nDiman
 che dernier nous étions une quarantaine à péleriner sur 4 routes ve
 rs Bluffy\, notre lieu d’arrivée. Nous avons pu échanger sur le th
 ème de l’Espérance lors de 3 haltes : un temps de beaux échanges 
 sincères et profonds. A la suite d’un repas tiré du sac très joye
 ux\, nous avons célébré l’Eucharistie dehors face à la magnifiqu
 e création aux couleurs d’automne.
CLASS:PUBLIC
END:VEVENT
END:VCALENDAR
