BEGIN:VCALENDAR
PRODID:-//AT Content Types//AT Event//EN
VERSION:2.0
METHOD:PUBLISH
BEGIN:VEVENT
DTSTAMP:20260422T040611Z
CREATED:20251001T085403Z
UID:ATEvent-88240e5dc48a4a24946c747a53a0d2c2
LAST-MODIFIED:20251001T102226Z
SUMMARY:Installation du pÃ¨re Olivier FLEAU\, nouveau curÃ© de la paroisse le 28 septembre
DTSTART:20251001T084500Z
DTEND:20251008T084500Z
DESCRIPTION:Lors de la messe de dimanche 28 septembre\, notre Ã©vÃªque
  Yves Le Saux a intronisÃ© le pÃ¨re Olivier FLEAU\, oblat de St FranÃ§
 ois de Sales\, comme nouveau curÃ© de la paroisse. Toute la communautÃ
 © est venue nombreuse pour fÃªter cet Ã©vÃ¨nement : les familles\, les
  scouts\, les maires des communes des six clochers (Alex\, Bluffy\, Me
 nthon\, St Germain\, Veyrier-du-Lac\, Talloires). A cette occasion\, l
 'Ã©vÃªque a remis au pÃ¨re Olivier sa lettre de mission ainsi que les 
 clefs de la paroisse.
CLASS:PUBLIC
END:VEVENT
END:VCALENDAR
