BEGIN:VCALENDAR
PRODID:-//AT Content Types//AT Event//EN
VERSION:2.0
METHOD:PUBLISH
BEGIN:VEVENT
DTSTAMP:20260421T095451Z
CREATED:20260420T121047Z
UID:ATEvent-9b8f39208c794359a1fd16b22d971d1f
LAST-MODIFIED:20260420T122757Z
SUMMARY:Catholiques 74 - avril DÃ©couvrez l'Ã©dito et le sommaire du numÃ©ro d'avril de Catholiques 74.
DTSTART:20260420T121000Z
DTEND:20260501T121000Z
DESCRIPTION:"La source de la vie"\npar Mgr Yves Le Saux\, Ã©vÃªque d'A
 nnecy\n\nNous sommes entrÃ©s dans la lumiÃ¨re de PÃ¢ques\, alors que n
 otre monde est secouÃ© encore par la violence et la guerre.\nNous ne p
 ouvons pas ne pas penser aux populations touchÃ©es en Iran et dans tou
 te cette rÃ©gion du monde\, qui subissent une nouvelle Ã©preuve aprÃ¨s
  des annÃ©es de tribulations et de dÃ©tresse.\n\nhttps://www.calameo.c
 om/read/005682989716d96788f53?page=1\nLa guerre ne peut jamais constit
 uer une solution durable aux conflits. Face Ã  cette tragÃ©die dâ€™une
  ampleur considÃ©rable\, lâ€™escalade de la violence reflÃ¨te une logi
 que conflictuelle qui domine de plus en plus la politique mondiale.\n\
 nJe veux faire Ã©cho aux propos du pape LÃ©on XIV\, Ã  son appel sincÃ
 ¨re Ã  Â« toutes les parties concernÃ©es\, pour quâ€™elles assument la
  responsabilitÃ© morale de mettre fin Ã  la spirale de la violence et 
 reviennent Ã  un dialogue raisonnable\, sincÃ¨re et responsable Â» (1)
 .\nQuâ€™elles recherchent Â« le bien-Ãªtre des peuples qui aspirent Ã 
  une existence pacifique\, fondÃ©e sur la justice Â» (2)\, pour entret
 enir lâ€™espÃ©rance dâ€™un avenir stable. ArrÃªter Â« la spirale de la
  violence avant quâ€™elle ne devienne un gouffre irrÃ©parable ! Â» (3)
 \n\nNous venons de cÃ©lÃ©brer la passion\, la mort et la rÃ©surrection
  du Seigneur\, le coeur de la foi. Nous croyons que\, par sa mort et s
 a rÃ©surrection\, JÃ©sus a aimÃ© lâ€™humanitÃ© jusquâ€™Ã  lâ€™extrÃªme
  et que cet Amour manifeste lâ€™Amour de Dieu\, son PÃ¨re\, pour tous 
 les hommes. Il a uni la souffrance Ã  lâ€™Amour\, qui crÃ©e le bien en
  le tirant mÃªme du mal. La croix est devenue la source de la vie.\nMa
 is nous croyons que la victoire du Christ est dÃ©jÃ  advenue et quâ€™e
 lle est dÃ©finitive. Il en dÃ©coule que nous pouvons nous placer face 
 Ã  la violence\, Ã  la mÃ©chancetÃ© humaine\, dans une attitude de con
 fiance fondamentale qui vient de la foi. Câ€™est Ã  cette lumiÃ¨re que
  nous devons essayer de regarder les Ã©vÃ©nements qui bouleversent le 
 monde.\n\nLes chrÃ©tiens regardent le monde\, lâ€™histoire\, Ã  traver
 s la passion\, la mort et la rÃ©surrection du Christ. Cela ne nous dis
 pense pas de nous interroger sur nos maniÃ¨res de vivre et de penser. 
 Jâ€™ai Ã©tÃ© marquÃ© ces derniÃ¨res semaines par la lecture dâ€™un pas
 sage du Livre de lâ€™Exode\, Ã  propos des commandements de Dieu reÃ§u
 s par MoÃ¯se : Â« Tu ne commettras pas de meurtre. Tu ne commettras pa
 s dâ€™adultÃ¨re. Tu ne commettras pas de vol. Tu ne porteras pas de fa
 ux tÃ©moignage contre ton prochain. Tu ne convoiteras pas la maison de
  ton prochain. Â» (4) Â« Tu nâ€™exploiteras pas lâ€™immigrÃ©\, tu ne l
 â€™opprimeras pas\, car vous Ã©tiez vous-mÃªmes des immigrÃ©s au pays 
 dâ€™Ã‰gypte. Vous nâ€™accablerez pas la veuve et lâ€™orphelin. Â» (5)\
 nÂ« Tu ne rÃ©pandras pas de rumeurs sans fondement. Ne prends pas part
 i pour un coupable. Tu ne suivras pas une majoritÃ© qui veut le mal. Â
 » (6) Â« Quand tu tomberas sur le boeuf\, ou lâ€™Ã¢ne\, Ã©garÃ© de ton
  ennemi\, tu le lui ramÃ¨neras. Et quand tu verras lâ€™Ã¢ne de celui q
 ui tâ€™en veut gisant sous son fardeau\, loin de lâ€™abandonner tu lâ€
 ™aideras Ã  porter sa charge. Â» (7)\n\nHeureux si ces lois pouvaient 
 sâ€™ancrer en nos coeurs.\nPrions pour que la sagesse et lâ€™humilitÃ©
  nous soient accordÃ©es.
URL:https://www.diocese-annecy.fr/actualites/catholiques-74
CLASS:PUBLIC
END:VEVENT
END:VCALENDAR
