BEGIN:VCALENDAR
PRODID:-//AT Content Types//AT Event//EN
VERSION:1.0
BEGIN:VEVENT
DTSTART:20260208T090000Z
DTEND:20260208T100000Z
DCREATED:20260121T184007Z
UID:ATEvent-a913ce5d89d640389627545e937be89a
SEQUENCE:0
LAST-MODIFIED:20260217T085612Z
SUMMARY:Dimanche de la santé
DESCRIPTION:Le dimanche de la santé sera célébré le 8 février\, s
 ur le thème "Que votre lumière brille"\nLa journée mondiale des mal
 ades a lieu le 11 février.\nLe dimanche de la Santé est une occasion
  qui nous est offerte chaque année d’écouter ceux qui sont déjà 
 engagés dans le monde de la santé.\nCe dimanche 8 février\, soignan
 ts\, personnel de la santé\, bénévoles\, êtes invités à venir à
  la messe à Aviernoz\, pour recevoir la bénédiction.
LOCATION:Eglise Aviernoz
PRIORITY:3
TRANSP:0
END:VEVENT
END:VCALENDAR
