BEGIN:VCALENDAR
PRODID:-//AT Content Types//AT Event//EN
VERSION:2.0
METHOD:PUBLISH
BEGIN:VEVENT
DTSTAMP:20260421T094208Z
CREATED:20260306T174229Z
UID:ATEvent-c1e8bbf5428d4484ab7ad34fe51e5b8d
LAST-MODIFIED:20260320T131024Z
SUMMARY:Assises Diocésaines du Catéchuménat
DTSTART:20260314T143000Z
DTEND:20260314T183000Z
DESCRIPTION:Pour discerner et répondre ensemble aux nouveaux enjeux d
 u catéchuménat\, des Assises diocésaines du catéchuménat ont lieu
  de janvier à juin 2026.\nLa première étape s’est déroulée le 1
 0 janvier. \nUne seconde étape aura lieu en paroisse où chacun est i
 nvité à prendre part aux échanges : pour notre paroisse nous avons 
 rendez-vous le samedi 14 mars à 15h30 à la salle paroissiale de Groi
 sy. NOUS VOUS ATTENDONS ! Nous sommes tous concernés !
CLASS:PUBLIC
END:VEVENT
END:VCALENDAR
