BEGIN:VCALENDAR
PRODID:-//AT Content Types//AT Event//EN
VERSION:1.0
BEGIN:VEVENT
DTSTART:20260502T160000Z
DTEND:20260502T170000Z
DCREATED:20260424T101628Z
UID:ATEvent-7533714b35e8411abafba0aaca690278
SEQUENCE:0
LAST-MODIFIED:20260424T101710Z
SUMMARY:La vie de nos chapelles
DESCRIPTION:Venez partager un moment de prière,\nde recueillement et 
 de paix\nautour du chapelet*\nen ce mois dédié à la Vierge Marie.
LOCATION:Chapelle de Joux à Passy
PRIORITY:3
TRANSP:0
END:VEVENT
END:VCALENDAR
