BEGIN:VCALENDAR
PRODID:-//AT Content Types//AT Event//EN
VERSION:2.0
METHOD:PUBLISH
BEGIN:VEVENT
DTSTAMP:20260420T114001Z
CREATED:20251016T194631Z
UID:ATEvent-94f6eed5d0ac4da7a24a4f2f240fa06a
LAST-MODIFIED:20260114T121522Z
SUMMARY:Le Topo du Père
DTSTART:20260123T190000Z
DTEND:20260123T203000Z
LOCATION:Centre paroissial
CLASS:PUBLIC
END:VEVENT
END:VCALENDAR
