BEGIN:VCALENDAR
PRODID:-//AT Content Types//AT Event//EN
VERSION:1.0
BEGIN:VEVENT
DTSTART:20260507T153000Z
DTEND:20260507T180000Z
DCREATED:20260423T123537Z
UID:ATEvent-e8771cfd919d4945b1f3b910a607a49e
SEQUENCE:0
LAST-MODIFIED:20260423T123635Z
SUMMARY:Compostelle en Joelette
LOCATION:La josta
PRIORITY:3
TRANSP:0
END:VEVENT
END:VCALENDAR
