BEGIN:VCALENDAR
PRODID:-//AT Content Types//AT Event//EN
VERSION:2.0
METHOD:PUBLISH
BEGIN:VEVENT
DTSTAMP:20260422T040816Z
CREATED:20260421T173615Z
UID:ATEvent-5ec3fd1b803946ce836f8f557444fe66
LAST-MODIFIED:20260421T173751Z
SUMMARY:Camps de jeunes
DTSTART:20260711T220000Z
DTEND:20260717T220000Z
CLASS:PUBLIC
END:VEVENT
END:VCALENDAR
