BEGIN:VCALENDAR
PRODID:-//AT Content Types//AT Event//EN
VERSION:1.0
BEGIN:VEVENT
DTSTART:20260501T170000Z
DTEND:20260501T170000Z
DCREATED:20260421T162615Z
UID:ATEvent-f246e0f55b7d42efb7cdbfdb5e844d35
SEQUENCE:0
LAST-MODIFIED:20260421T162652Z
SUMMARY:Veillée d’adoration: 1er mai
PRIORITY:3
TRANSP:0
END:VEVENT
END:VCALENDAR
