BEGIN:VCALENDAR
PRODID:-//AT Content Types//AT Event//EN
VERSION:2.0
METHOD:PUBLISH
BEGIN:VEVENT
DTSTAMP:20260422T042432Z
CREATED:20260421T163031Z
UID:ATEvent-ae99f66b25ec4aa389e683f66070cb86
LAST-MODIFIED:20260421T163041Z
SUMMARY:Rencontre du conseil économique
DTSTART:20260507T180000Z
DTEND:20260507T180000Z
CLASS:PUBLIC
END:VEVENT
END:VCALENDAR
