BEGIN:VCALENDAR
PRODID:-//AT Content Types//AT Event//EN
VERSION:2.0
METHOD:PUBLISH
BEGIN:VEVENT
DTSTAMP:20260422T055224Z
CREATED:20260421T160011Z
UID:ATEvent-d92ab15de8f74b75b572d5561af742ad
LAST-MODIFIED:20260421T160104Z
SUMMARY:Prières du Chapelet\, mois de Marie
DTSTART:20260501T160000Z
DTEND:20260531T160000Z
CATEGORIES:ZoomSur
CLASS:PUBLIC
END:VEVENT
END:VCALENDAR
