BEGIN:VCALENDAR
PRODID:-//AT Content Types//AT Event//EN
VERSION:2.0
METHOD:PUBLISH
BEGIN:VEVENT
DTSTAMP:20260424T170434Z
CREATED:20260424T133023Z
UID:ATEvent-1d4942ae7c194403a96c851fb98b557a
LAST-MODIFIED:20260424T133045Z
SUMMARY:Soirée de louange
DTSTART:20260416T170000Z
DTEND:20260424T183000Z
LOCATION:Rumilly - église Ste Agathe
CLASS:PUBLIC
END:VEVENT
END:VCALENDAR
