BEGIN:VCALENDAR
PRODID:-//AT Content Types//AT Event//EN
VERSION:1.0
BEGIN:VEVENT
DTSTART:20260423T163000Z
DTEND:20260423T180000Z
DCREATED:20230121T153916Z
UID:ATEvent-ab02e9116617409aa0020cfa6bc6900b
SEQUENCE:0
LAST-MODIFIED:20260401T065030Z
SUMMARY:E.A.P. (Equipe Animatrice de Paroisse) - rencontre
LOCATION:Rumilly - presbytère
PRIORITY:3
TRANSP:0
END:VEVENT
END:VCALENDAR
