BEGIN:VCALENDAR
PRODID:-//AT Content Types//AT Event//EN
VERSION:1.0
BEGIN:VEVENT
DTSTART:20260612T180000Z
DTEND:20260612T200000Z
DCREATED:20250922T140416Z
UID:ATEvent-2ed962cfd2d9420babd91ca6794b7ed6
SEQUENCE:0
LAST-MODIFIED:20250925T071200Z
SUMMARY:Rencontre du groupe de parole "après le divorce ou la séparation" - Revivre 74
LOCATION:Annecy-Meythet - 12 rue de l'aérodrome - salle paroissiale
PRIORITY:3
TRANSP:0
END:VEVENT
END:VCALENDAR
