BEGIN:VCALENDAR
PRODID:-//AT Content Types//AT Event//EN
VERSION:2.0
METHOD:PUBLISH
BEGIN:VEVENT
DTSTAMP:20260422T041311Z
CREATED:20250922T140410Z
UID:ATEvent-1de5aef807664ec1bef6654d41f29e43
LAST-MODIFIED:20250925T065831Z
SUMMARY:Rencontre du groupe de parole "après le divorce ou la séparation" - Revivre 74
DTSTART:20260424T180000Z
DTEND:20260424T200000Z
LOCATION:Annecy-Meythet - 12 rue de l'aérodrome - salle paroissiale
CLASS:PUBLIC
END:VEVENT
END:VCALENDAR
