BEGIN:VCALENDAR
PRODID:-//AT Content Types//AT Event//EN
VERSION:2.0
METHOD:PUBLISH
BEGIN:VEVENT
DTSTAMP:20260421T154518Z
CREATED:20251024T164026Z
UID:ATEvent-731c2d182a7a43fcb07339734b392736
LAST-MODIFIED:20251118T132610Z
SUMMARY:Permanence d'inscription au baptême - 13 juin
DTSTART:20260613T073000Z
DTEND:20260613T093000Z
LOCATION:Rumilly - presbytère
CLASS:PUBLIC
END:VEVENT
END:VCALENDAR
