BEGIN:VCALENDAR
PRODID:-//AT Content Types//AT Event//EN
VERSION:2.0
METHOD:PUBLISH
BEGIN:VEVENT
DTSTAMP:20260424T202913Z
CREATED:20260424T142521Z
UID:ATEvent-e96d14e21dc446e78438a536fca0e9dc
LAST-MODIFIED:20260424T144813Z
SUMMARY:Pèlerinage collégiens  à Turin sanctuaire d’Oropa
DTSTART:20260630T220000Z
DTEND:20260703T220000Z
DESCRIPTION:Le rendez-vous des collégiens\, c'est cet été\, à Turi
 n\, en Italie !
CLASS:PUBLIC
END:VEVENT
END:VCALENDAR
