BEGIN:VCALENDAR
PRODID:-//AT Content Types//AT Event//EN
VERSION:2.0
METHOD:PUBLISH
BEGIN:VEVENT
DTSTAMP:20260421T172729Z
CREATED:20260421T134818Z
UID:ATEvent-c04d3b7a1b5448cd8c79dd5dd470b345
LAST-MODIFIED:20260421T135339Z
SUMMARY:6e Journée mondiale des grands-parents et des personnes âgées
DTSTART:20260725T220000Z
DTEND:20260725T220000Z
CLASS:PUBLIC
END:VEVENT
END:VCALENDAR
