BEGIN:VCALENDAR
PRODID:-//AT Content Types//AT Event//EN
VERSION:2.0
METHOD:PUBLISH
BEGIN:VEVENT
DTSTAMP:20260421T172018Z
CREATED:20240531T073632Z
UID:ATEvent-d5bd07ea13ed4ca395394df3ba35b17d
LAST-MODIFIED:20260421T134921Z
SUMMARY:L'Assomption de la Vierge Marie
DTSTART:20260814T220000Z
DTEND:20260814T220000Z
DESCRIPTION:L’Assomption est une des grandes fêtes de la vie chrét
 ienne. Célébrée le 15 août\, elle commémore la gloire de Marie av
 ec Dieu au terme de sa vie terrestre. Marie a été enlevée de la vie
  terrestre pour entrer dans la vie en Dieu. Pour Marie\, l’Assomptio
 n est la suite de sa participation à la vie de Jésus.
CLASS:PUBLIC
END:VEVENT
END:VCALENDAR
